BEGIN:VCALENDAR
VERSION:2.0
PRODID:-//wp-events-plugin.com//7.2.3.1//EN
TZID:Europe/London
X-WR-TIMEZONE:Europe/London
BEGIN:VEVENT
UID:186@porty.live
DTSTART;TZID=Europe/London:20250607T100000
DTEND;TZID=Europe/London:20250607T140000
DTSTAMP:20250505T153723Z
URL:https://www.porty.live/whatson/events/diy-pride-noise-makers-create-de
 corate-celebrate/
SUMMARY:DIY Pride Noise Makers: Create\, Decorate\, Celebrate!
DESCRIPTION:Get ready to make some noise! Join the Edinburgh Tool Library a
 t Tribe Porty for a vibrant\, hands-on workshop where you'll craft your ve
 ry own pride noise makers.\n
ATTACH;FMTTYPE=image/jpeg:https://www.porty.live/wp-content/uploads/2025/0
 4/ETL-black-logo-high-res.jpg
CATEGORIES:DIY &amp; Crafts,Workshop
LOCATION:Tribe Porty\, 19 Windsor Place\, Edinburgh\, EH15 2AJ\, United Kin
 gdom
GEO:55.951361;-3.113195
X-APPLE-STRUCTURED-LOCATION;VALUE=URI;X-ADDRESS=19 Windsor Place\, Edinburg
 h\, EH15 2AJ\, United Kingdom;X-APPLE-RADIUS=100;X-TITLE=Tribe Porty:geo:5
 5.951361,-3.113195
END:VEVENT
BEGIN:VTIMEZONE
TZID:Europe/London
X-LIC-LOCATION:Europe/London
BEGIN:DAYLIGHT
DTSTART:20250330T020000
TZOFFSETFROM:+0000
TZOFFSETTO:+0100
TZNAME:BST
END:DAYLIGHT
END:VTIMEZONE
END:VCALENDAR