BEGIN:VCALENDAR
VERSION:2.0
PRODID:-//wp-events-plugin.com//7.2.3.1//EN
TZID:Europe/London
X-WR-TIMEZONE:Europe/London
BEGIN:VEVENT
UID:531@porty.live
DTSTART;TZID=Europe/London:20250711T170000
DTEND;TZID=Europe/London:20250711T190000
DTSTAMP:20250708T192251Z
URL:https://www.porty.live/whatson/events/dirty-glitter-cats-upcycling-wor
 kshop/
SUMMARY:Dirty Glitter Cats Upcycling Workshop
DESCRIPTION:2-hour upcycling workshop where you bring an item to pimp up\, 
 and we’ll bring the glue guns\, gemstones\, feathers\, fabrics and full-
 on sparkle vibes.\n\n
ATTACH;FMTTYPE=image/jpeg:https://www.porty.live/wp-content/uploads/2025/0
 7/DGC.png
CATEGORIES:DIY &amp; Crafts
LOCATION:The Wash House\, 3 Adelphi Grove\, Edinburgh\, EH15 1AP\, United K
 ingdom
GEO:55.953877;-3.116526
X-APPLE-STRUCTURED-LOCATION;VALUE=URI;X-ADDRESS=3 Adelphi Grove\, Edinburgh
 \, EH15 1AP\, United Kingdom;X-APPLE-RADIUS=100;X-TITLE=The Wash House:geo
 :55.953877,-3.116526
END:VEVENT
BEGIN:VTIMEZONE
TZID:Europe/London
X-LIC-LOCATION:Europe/London
BEGIN:DAYLIGHT
DTSTART:20250330T020000
TZOFFSETFROM:+0000
TZOFFSETTO:+0100
TZNAME:BST
END:DAYLIGHT
END:VTIMEZONE
END:VCALENDAR