BEGIN:VCALENDAR
VERSION:2.0
PRODID:-//wp-events-plugin.com//7.2.3.1//EN
TZID:Europe/London
X-WR-TIMEZONE:Europe/London
BEGIN:VEVENT
UID:1781@porty.live
DTSTART;TZID=Europe/London:20251128T113000
DTEND;TZID=Europe/London:20251128T123000
DTSTAMP:20251121T173850Z
URL:https://www.porty.live/whatson/events/cycling-classes-for-adults/
SUMMARY:Cycling classes for adults
DESCRIPTION:Build your confidence cycling on roads this Autumn\n\n
ATTACH;FMTTYPE=image/jpeg:https://www.porty.live/wp-content/uploads/2025/1
 1/https___cdn.evbuc_.com_images_1113161563_531012119111_1_original.jpg
CATEGORIES:Cycling
LOCATION:Porty Active Travel Hub\, Pipe Lane\, Edinburgh\, EH15 1BR\, Unite
 d Kingdom
GEO:55.95593;-3.115147
X-APPLE-STRUCTURED-LOCATION;VALUE=URI;X-ADDRESS=Pipe Lane\, Edinburgh\, EH1
 5 1BR\, United Kingdom;X-APPLE-RADIUS=100;X-TITLE=Porty Active Travel Hub:
 geo:55.95593,-3.115147
END:VEVENT
BEGIN:VTIMEZONE
TZID:Europe/London
X-LIC-LOCATION:Europe/London
BEGIN:STANDARD
DTSTART:20251026T010000
TZOFFSETFROM:+0100
TZOFFSETTO:+0000
TZNAME:GMT
END:STANDARD
END:VTIMEZONE
END:VCALENDAR