BEGIN:VCALENDAR
VERSION:2.0
PRODID:-//wp-events-plugin.com//7.2.3.1//EN
TZID:Europe/London
X-WR-TIMEZONE:Europe/London
BEGIN:VEVENT
UID:452@porty.live
DTSTART;TZID=Europe/London:20250521T183000
DTEND;TZID=Europe/London:20250521T193000
DTSTAMP:20250516T165935Z
URL:https://www.porty.live/whatson/events/cpz-public-meeting/
SUMMARY:CPZ Public Meeting
DESCRIPTION:Councillor Jane Meagher is holding a community meeting\, alongs
 ide council officers\, to discuss the details of the proposal and answer a
 ny questions from residents.\n\n
ATTACH;FMTTYPE=image/jpeg:https://www.porty.live/wp-content/uploads/2025/0
 5/Screenshot-2025-05-16-175852.png
CATEGORIES:Public Meeting
LOCATION:Portobello Library\, 14 Rosefield Avenue\, Edinburgh\, EH15 1AU\, 
 United Kingdom
GEO:55.953325;-3.116676
X-APPLE-STRUCTURED-LOCATION;VALUE=URI;X-ADDRESS=14 Rosefield Avenue\, Edinb
 urgh\, EH15 1AU\, United Kingdom;X-APPLE-RADIUS=100;X-TITLE=Portobello Lib
 rary:geo:55.953325,-3.116676
END:VEVENT
BEGIN:VTIMEZONE
TZID:Europe/London
X-LIC-LOCATION:Europe/London
BEGIN:DAYLIGHT
DTSTART:20250330T020000
TZOFFSETFROM:+0000
TZOFFSETTO:+0100
TZNAME:BST
END:DAYLIGHT
END:VTIMEZONE
END:VCALENDAR