BEGIN:VCALENDAR
VERSION:2.0
PRODID:-//wp-events-plugin.com//7.2.3.1//EN
TZID:Europe/London
X-WR-TIMEZONE:Europe/London
BEGIN:VEVENT
UID:198@porty.live
DTSTART;TZID=Europe/London:20250607T133000
DTEND;TZID=Europe/London:20250607T153000
DTSTAMP:20250505T153906Z
URL:https://www.porty.live/whatson/events/community-care-as-self-care/
SUMMARY:Community Care as Self Care
DESCRIPTION:This zine-making workshop combines self-directed creative play 
 with group reflection and learning.\n\n
ATTACH;FMTTYPE=image/jpeg:https://www.porty.live/wp-content/uploads/2025/0
 5/image00001.jpeg
CATEGORIES:Workshop
LOCATION:Portobello Library\, 14 Rosefield Avenue\, Edinburgh\, EH15 1AU\, 
 United Kingdom
GEO:55.953325;-3.116676
X-APPLE-STRUCTURED-LOCATION;VALUE=URI;X-ADDRESS=14 Rosefield Avenue\, Edinb
 urgh\, EH15 1AU\, United Kingdom;X-APPLE-RADIUS=100;X-TITLE=Portobello Lib
 rary:geo:55.953325,-3.116676
END:VEVENT
BEGIN:VTIMEZONE
TZID:Europe/London
X-LIC-LOCATION:Europe/London
BEGIN:DAYLIGHT
DTSTART:20250330T020000
TZOFFSETFROM:+0000
TZOFFSETTO:+0100
TZNAME:BST
END:DAYLIGHT
END:VTIMEZONE
END:VCALENDAR