BEGIN:VCALENDAR
VERSION:2.0
PRODID:-//wp-events-plugin.com//7.2.3.1//EN
TZID:Europe/London
X-WR-TIMEZONE:Europe/London
BEGIN:VEVENT
UID:1787@porty.live
DTSTART;TZID=Europe/London:20251126T183000
DTEND;TZID=Europe/London:20251126T203000
DTSTAMP:20251122T164851Z
URL:https://www.porty.live/whatson/events/christmas-wreath-workshop-2/
SUMMARY:Christmas Wreath Workshop
DESCRIPTION:A cosy\, creative workshop where you’ll learn how to craft be
 autiful\, seasonal Christmas wreaths.\n\n
ATTACH;FMTTYPE=image/jpeg:https://www.porty.live/wp-content/uploads/2025/1
 1/2BC3206A-A062-407C-AE0D-B6DEC47F50131.jpg
CATEGORIES:DIY &amp; Crafts
LOCATION:Tribe Porty\, 19 Windsor Place\, Edinburgh\, EH15 2AJ\, United Kin
 gdom
GEO:55.951361;-3.113195
X-APPLE-STRUCTURED-LOCATION;VALUE=URI;X-ADDRESS=19 Windsor Place\, Edinburg
 h\, EH15 2AJ\, United Kingdom;X-APPLE-RADIUS=100;X-TITLE=Tribe Porty:geo:5
 5.951361,-3.113195
END:VEVENT
BEGIN:VTIMEZONE
TZID:Europe/London
X-LIC-LOCATION:Europe/London
BEGIN:STANDARD
DTSTART:20251026T010000
TZOFFSETFROM:+0100
TZOFFSETTO:+0000
TZNAME:GMT
END:STANDARD
END:VTIMEZONE
END:VCALENDAR