BEGIN:VCALENDAR
VERSION:2.0
PRODID:-//wp-events-plugin.com//7.2.3.1//EN
TZID:Europe/London
X-WR-TIMEZONE:Europe/London
BEGIN:VEVENT
UID:1808@porty.live
DTSTART;TZID=Europe/London:20251222T093000
DTEND;TZID=Europe/London:20251222T120000
DTSTAMP:20251205T143954Z
URL:https://www.porty.live/whatson/events/christmas-workshop/
SUMMARY:Christmas Workshop
DESCRIPTION:Christmas crafts\, games\, music and festive treats\n\n
ATTACH;FMTTYPE=image/jpeg:https://www.porty.live/wp-content/uploads/2025/1
 2/2S0oyMBwQnzNYE6g5g5Q81Oj5hgynSIhW3aFcpgZ.jpg
CATEGORIES:Children's Classes and Tutoring,DIY &amp; Crafts
LOCATION:The Wash House\, 3 Adelphi Grove\, Edinburgh\, EH15 1AP\, United K
 ingdom
GEO:55.953877;-3.116526
X-APPLE-STRUCTURED-LOCATION;VALUE=URI;X-ADDRESS=3 Adelphi Grove\, Edinburgh
 \, EH15 1AP\, United Kingdom;X-APPLE-RADIUS=100;X-TITLE=The Wash House:geo
 :55.953877,-3.116526
END:VEVENT
BEGIN:VTIMEZONE
TZID:Europe/London
X-LIC-LOCATION:Europe/London
BEGIN:STANDARD
DTSTART:20251026T010000
TZOFFSETFROM:+0100
TZOFFSETTO:+0000
TZNAME:GMT
END:STANDARD
END:VTIMEZONE
END:VCALENDAR