BEGIN:VCALENDAR
VERSION:2.0
PRODID:-//wp-events-plugin.com//7.2.3.1//EN
TZID:Europe/London
X-WR-TIMEZONE:Europe/London
BEGIN:VEVENT
UID:1779@porty.live
DTSTART;TZID=Europe/London:20251129T093000
DTEND;TZID=Europe/London:20251129T170000
DTSTAMP:20251121T170016Z
URL:https://www.porty.live/whatson/events/by-the-beach-writing-retreat/
SUMMARY:By the Beach Writing Retreat
DESCRIPTION:November's retreat with Women Who Write Edinburgh\n\n
ATTACH;FMTTYPE=image/jpeg:https://www.porty.live/wp-content/uploads/2025/1
 1/efbb5a5e-e406-4007-8ac9-173b5f9e46a5_1280x1280.png
CATEGORIES:Writing
LOCATION:Tribe Porty\, 19 Windsor Place\, Edinburgh\, EH15 2AJ\, United Kin
 gdom
GEO:55.951361;-3.113195
X-APPLE-STRUCTURED-LOCATION;VALUE=URI;X-ADDRESS=19 Windsor Place\, Edinburg
 h\, EH15 2AJ\, United Kingdom;X-APPLE-RADIUS=100;X-TITLE=Tribe Porty:geo:5
 5.951361,-3.113195
END:VEVENT
BEGIN:VTIMEZONE
TZID:Europe/London
X-LIC-LOCATION:Europe/London
BEGIN:STANDARD
DTSTART:20251026T010000
TZOFFSETFROM:+0100
TZOFFSETTO:+0000
TZNAME:GMT
END:STANDARD
END:VTIMEZONE
END:VCALENDAR