BEGIN:VCALENDAR
VERSION:2.0
PRODID:-//wp-events-plugin.com//7.2.3.1//EN
TZID:Europe/London
X-WR-TIMEZONE:Europe/London
BEGIN:VEVENT
UID:508@porty.live
DTSTART;TZID=Europe/London:20250726T140000
DTEND;TZID=Europe/London:20250726T153000
DTSTAMP:20250615T193638Z
URL:https://www.porty.live/whatson/events/bugsy-malone-3/
SUMMARY:Bugsy Malone
DESCRIPTION:Dive into Fat Sam's Grand Slam as Bugsy and the gang try to out
 smart their rivals\, with splurge guns blazing and gangsters on the loose!
 \n\n
ATTACH;FMTTYPE=image/jpeg:https://www.porty.live/wp-content/uploads/2025/0
 6/Bugsy-TS.avif
CATEGORIES:Theatre
LOCATION:Portobello Town Hall\, 147-149 Portobello High St\, Edinburgh\, EH
 15 1AF\, United Kingdom
GEO:55.953;-3.115412
X-APPLE-STRUCTURED-LOCATION;VALUE=URI;X-ADDRESS=147-149 Portobello High St\
 , Edinburgh\, EH15 1AF\, United Kingdom;X-APPLE-RADIUS=100;X-TITLE=Portobe
 llo Town Hall:geo:55.953,-3.115412
END:VEVENT
BEGIN:VTIMEZONE
TZID:Europe/London
X-LIC-LOCATION:Europe/London
BEGIN:DAYLIGHT
DTSTART:20250330T020000
TZOFFSETFROM:+0000
TZOFFSETTO:+0100
TZNAME:BST
END:DAYLIGHT
END:VTIMEZONE
END:VCALENDAR