BEGIN:VCALENDAR
VERSION:2.0
PRODID:-//wp-events-plugin.com//7.2.3.1//EN
TZID:Europe/London
X-WR-TIMEZONE:Europe/London
BEGIN:VEVENT
UID:1393@porty.live
DTSTART;TZID=Europe/London:20250830T120000
DTEND;TZID=Europe/London:20250830T180000
DTSTAMP:20250830T095454Z
URL:https://www.porty.live/whatson/events/big-beach-busk/
SUMMARY:Big Beach Busk
DESCRIPTION:The Beach Busk is like an all day flash mob by the sea. A splas
 h mob (thank you joe). No booking\, no headliers no tickets we're unfestiv
 aling.
ATTACH;FMTTYPE=image/jpeg:https://www.porty.live/wp-content/uploads/2025/0
 8/markup_1000048650.jpg
CATEGORIES:Festival
LOCATION:Portobello Promenade (The Prom)\, Promenade\, Edinburgh\, United K
 ingdom
GEO:55.952264;-3.104216
X-APPLE-STRUCTURED-LOCATION;VALUE=URI;X-ADDRESS=Promenade\, Edinburgh\, Uni
 ted Kingdom;X-APPLE-RADIUS=100;X-TITLE=Portobello Promenade (The Prom):geo
 :55.952264,-3.104216
END:VEVENT
BEGIN:VTIMEZONE
TZID:Europe/London
X-LIC-LOCATION:Europe/London
BEGIN:DAYLIGHT
DTSTART:20250330T020000
TZOFFSETFROM:+0000
TZOFFSETTO:+0100
TZNAME:BST
END:DAYLIGHT
END:VTIMEZONE
END:VCALENDAR