BEGIN:VCALENDAR
VERSION:2.0
PRODID:-//wp-events-plugin.com//7.2.3.1//EN
TZID:Europe/London
X-WR-TIMEZONE:Europe/London
BEGIN:VEVENT
UID:1603@porty.live
DTSTART;TZID=Europe/London:20251222T190000
DTEND;TZID=Europe/London:20251222T203000
DTSTAMP:20251121T163147Z
URL:https://www.porty.live/whatson/events/beauty-and-the-beast-2-2025-12-2
 2/
SUMMARY:Beauty and the Beast
DESCRIPTION:Back by popular demand\, Porty Panto returns for its third cons
 ecutive year\, and this time it promises to be a BEAST of a pantomime!\n\n
ATTACH;FMTTYPE=image/jpeg:https://www.porty.live/wp-content/uploads/2025/0
 9/97327-17550718796699-m.png
CATEGORIES:Theatre
LOCATION:Portobello Town Hall\, 147-149 Portobello High St\, Edinburgh\, EH
 15 1AF\, United Kingdom
GEO:55.953;-3.115412
X-APPLE-STRUCTURED-LOCATION;VALUE=URI;X-ADDRESS=147-149 Portobello High St\
 , Edinburgh\, EH15 1AF\, United Kingdom;X-APPLE-RADIUS=100;X-TITLE=Portobe
 llo Town Hall:geo:55.953,-3.115412
END:VEVENT
BEGIN:VTIMEZONE
TZID:Europe/London
X-LIC-LOCATION:Europe/London
BEGIN:STANDARD
DTSTART:20251026T010000
TZOFFSETFROM:+0100
TZOFFSETTO:+0000
TZNAME:GMT
END:STANDARD
END:VTIMEZONE
END:VCALENDAR