BEGIN:VCALENDAR
VERSION:2.0
PRODID:-//wp-events-plugin.com//7.2.3.1//EN
TZID:Europe/London
X-WR-TIMEZONE:Europe/London
BEGIN:VEVENT
UID:399@porty.live
DTSTART;TZID=Europe/London:20250508T103000
DTEND;TZID=Europe/London:20250508T113000
DTSTAMP:20250813T210507Z
URL:https://www.porty.live/whatson/events/bath-babies-2025-05-08/
SUMMARY:Bath Babies
DESCRIPTION:Looking for a one-of-a-kind experience to bond with your baby?\
 n\n
ATTACH;FMTTYPE=image/jpeg:https://www.porty.live/wp-content/uploads/2025/0
 5/Instagramposts-.jpeg
CATEGORIES:Classes,Parent and Child
LOCATION:Bellfield\, 16B Bellfield Street\, Edinburgh\, EH15 2BP\, United K
 ingdom
GEO:55.952205;-3.108335
X-APPLE-STRUCTURED-LOCATION;VALUE=URI;X-ADDRESS=16B Bellfield Street\, Edin
 burgh\, EH15 2BP\, United Kingdom;X-APPLE-RADIUS=100;X-TITLE=Bellfield:geo
 :55.952205,-3.108335
END:VEVENT
BEGIN:VTIMEZONE
TZID:Europe/London
X-LIC-LOCATION:Europe/London
BEGIN:DAYLIGHT
DTSTART:20250330T020000
TZOFFSETFROM:+0000
TZOFFSETTO:+0100
TZNAME:BST
END:DAYLIGHT
END:VTIMEZONE
END:VCALENDAR