BEGIN:VCALENDAR
VERSION:2.0
PRODID:-//wp-events-plugin.com//7.2.3.1//EN
TZID:Europe/London
X-WR-TIMEZONE:Europe/London
BEGIN:VEVENT
UID:1748@porty.live
DTSTART;TZID=Europe/London:20251124T154000
DTEND;TZID=Europe/London:20251124T170000
DTSTAMP:20251024T151049Z
URL:https://www.porty.live/whatson/events/art-start-academy-2025-10-27-202
 5-11-03-2025-11-10-2025-11-17-2025-11-24/
SUMMARY:Art Start Academy
DESCRIPTION:Afternoon art classes for Children (P1 -P3)\n
ATTACH;FMTTYPE=image/jpeg:https://www.porty.live/wp-content/uploads/2025/1
 0/cropped-artstartacademy-logo-300x300-1.png
CATEGORIES:Children's Classes and Tutoring
LOCATION:Bellfield\, 16B Bellfield Street\, Edinburgh\, EH15 2BP\, United K
 ingdom
GEO:55.952205;-3.108335
X-APPLE-STRUCTURED-LOCATION;VALUE=URI;X-ADDRESS=16B Bellfield Street\, Edin
 burgh\, EH15 2BP\, United Kingdom;X-APPLE-RADIUS=100;X-TITLE=Bellfield:geo
 :55.952205,-3.108335
END:VEVENT
BEGIN:VTIMEZONE
TZID:Europe/London
X-LIC-LOCATION:Europe/London
BEGIN:STANDARD
DTSTART:20251026T010000
TZOFFSETFROM:+0100
TZOFFSETTO:+0000
TZNAME:GMT
END:STANDARD
END:VTIMEZONE
END:VCALENDAR