BEGIN:VCALENDAR
VERSION:2.0
PRODID:-//wp-events-plugin.com//7.2.3.1//EN
TZID:Europe/London
X-WR-TIMEZONE:Europe/London
BEGIN:VEVENT
UID:1545@porty.live
DTSTART;TZID=Europe/London:20250907T100000
DTEND;TZID=Europe/London:20250907T180000
DTSTAMP:20250905T102648Z
URL:https://www.porty.live/whatson/events/art-houses-art-in-shops-2025-09-
 07/
SUMMARY:Art Houses & Art in Shops
DESCRIPTION:Exhibitions of art in Housees and Shops across the whole of Por
 tobello.\n\n
ATTACH;FMTTYPE=image/jpeg:https://www.porty.live/wp-content/uploads/2025/0
 9/AWP25-landscape2.png
CATEGORIES:Art,Festival
END:VEVENT
BEGIN:VTIMEZONE
TZID:Europe/London
X-LIC-LOCATION:Europe/London
BEGIN:DAYLIGHT
DTSTART:20250330T020000
TZOFFSETFROM:+0000
TZOFFSETTO:+0100
TZNAME:BST
END:DAYLIGHT
END:VTIMEZONE
END:VCALENDAR