BEGIN:VCALENDAR
VERSION:2.0
PRODID:-//wp-events-plugin.com//7.2.3.1//EN
TZID:Europe/London
X-WR-TIMEZONE:Europe/London
BEGIN:VEVENT
UID:600@porty.live
DTSTART;TZID=Europe/London:20250727T140000
DTEND;TZID=Europe/London:20250727T160000
DTSTAMP:20250711T173517Z
URL:https://www.porty.live/whatson/events/allotments-open-day/
SUMMARY:Allotments Open Day
DESCRIPTION:Come and enjoy home baking\, tea and coffee\, and a chat with o
 ur friendly plotholders.\n\n
ATTACH;FMTTYPE=image/jpeg:https://www.porty.live/wp-content/uploads/2025/0
 7/Screenshot-2025-07-11-183219.png
CATEGORIES:Open Day
LOCATION:Craigentinny Telferton Allotments\, Telferton Road\, Edinburgh\, E
 H7 6XG\, United Kingdom
GEO:55.955693;-3.126636
X-APPLE-STRUCTURED-LOCATION;VALUE=URI;X-ADDRESS=Telferton Road\, Edinburgh\
 , EH7 6XG\, United Kingdom;X-APPLE-RADIUS=100;X-TITLE=Craigentinny Telfert
 on Allotments:geo:55.955693,-3.126636
END:VEVENT
BEGIN:VTIMEZONE
TZID:Europe/London
X-LIC-LOCATION:Europe/London
BEGIN:DAYLIGHT
DTSTART:20250330T020000
TZOFFSETFROM:+0000
TZOFFSETTO:+0100
TZNAME:BST
END:DAYLIGHT
END:VTIMEZONE
END:VCALENDAR